BEGIN:VCALENDAR
VERSION:2.0
PRODID:-//hacksw/handcal//NONSGML v1.0//EN
BEGIN:VEVENT
SUMMARY:D1J17 : FCCP St Alban A - Broons Tremeur A
UID:e71e7b12-eb7c-464d-9a6b-3935967604f2
DTSTART:20260412T133000Z
DTEND:20260412T153000Z
LOCATION:Localisation   
CATEGORIES:Sportif
STATUS:
URL;VALUE=URI:https://www.as-broons-tremeur-foot-22.com/evenements/2026/04/12/d1j17-fccp-st-alban-a-broons-tremeur-a-2440740
END:VEVENT
END:VCALENDAR
