BEGIN:VCALENDAR
VERSION:2.0
PRODID:-//hacksw/handcal//NONSGML v1.0//EN
BEGIN:VEVENT
SUMMARY:D3J17 : La Landec A - Broons Tremeur B
UID:c0945cc6-aaa8-4370-b94f-035e9d6bf12d
DTSTART:20260412T133000Z
DTEND:20260412T153000Z
LOCATION:Localisation   
CATEGORIES:Sportif
STATUS:
URL;VALUE=URI:https://www.as-broons-tremeur-foot-22.com/evenements/2026/04/12/d3j17-la-landec-a-broons-tremeur-b-2440651
END:VEVENT
END:VCALENDAR
