BEGIN:VCALENDAR
VERSION:2.0
PRODID:-//hacksw/handcal//NONSGML v1.0//EN
BEGIN:VEVENT
SUMMARY:D1J18 : Broons Tremeur A - Lanrelas A
UID:ce991660-bc70-4fb9-9de2-a710a02204a7
DTSTART:20260419T133000Z
DTEND:20260419T153000Z
LOCATION:Localisation   
CATEGORIES:Sportif
STATUS:
URL;VALUE=URI:https://www.as-broons-tremeur-foot-22.com/evenements/2026/04/19/d1j18-broons-tremeur-a-lanrelas-a-2444601
END:VEVENT
END:VCALENDAR
